BEGIN:VCALENDAR
VERSION:2.0
PRODID:-//pretix//pretix.eu//
BEGIN:VTIMEZONE
TZID:Europe/Berlin
BEGIN:STANDARD
DTSTART:20001029T040000
RRULE:FREQ=YEARLY;BYDAY=-1SU;BYMONTH=10
TZNAME:CET
TZOFFSETFROM:+0200
TZOFFSETTO:+0100
END:STANDARD
BEGIN:DAYLIGHT
DTSTART:20000326T030000
RRULE:FREQ=YEARLY;BYDAY=-1SU;BYMONTH=3
TZNAME:CEST
TZOFFSETFROM:+0100
TZOFFSETTO:+0200
END:DAYLIGHT
END:VTIMEZONE
BEGIN:VEVENT
UID:pretix-gebo-neu26-4821910@events.gessler-bolch.de
DTSTART;TZID=Europe/Berlin:20260211T083000
DTEND;TZID=Europe/Berlin:20260211T093000
DESCRIPTION:Tickets: https://events.gessler-bolch.de/neu26/4821910/\nEinlas
 s: 11.02.2026 08:00\nVeranstalter: Gessler & Bolch Insektenschutz AG
DTSTAMP:20260420T151132Z
LOCATION:Gessler & Bolch Insektenschutz AG\, Riegelbachstr. 18\, 74360 Ilsf
 eld
SUMMARY:Insektenschutzschulung für Neueinsteiger und Auffrischer
END:VEVENT
END:VCALENDAR
