BEGIN:VCALENDAR
VERSION:2.0
PRODID:-//pretix//pretix.eu//
BEGIN:VTIMEZONE
TZID:Europe/Berlin
BEGIN:STANDARD
DTSTART:20001029T040000
RRULE:FREQ=YEARLY;BYDAY=-1SU;BYMONTH=10
TZNAME:CET
TZOFFSETFROM:+0200
TZOFFSETTO:+0100
END:STANDARD
BEGIN:DAYLIGHT
DTSTART:20000326T030000
RRULE:FREQ=YEARLY;BYDAY=-1SU;BYMONTH=3
TZNAME:CEST
TZOFFSETFROM:+0100
TZOFFSETTO:+0200
END:DAYLIGHT
END:VTIMEZONE
BEGIN:VEVENT
UID:pretix-gebo-neu25-4365064@events.gessler-bolch.de
DTSTART;TZID=Europe/Berlin:20250311T083000
DTEND;TZID=Europe/Berlin:20250311T163000
DESCRIPTION:Tickets: https://events.gessler-bolch.de/neu25/4365064/\nEinlas
 s: 11.03.2025 08:00\nVeranstalter: Gessler & Bolch Insektenschutz AG
DTSTAMP:20260421T091114Z
LOCATION:Gessler & Bolch Insektenschutz AG\, Riegelbachstr. 18\, 74360 Ilsf
 eld
SUMMARY:Insektenschutzschulung für Neueinsteiger und Auffrischer
END:VEVENT
END:VCALENDAR
